BEGIN:VCALENDAR
VERSION:2.0
PRODID:SchoolNow
CALSCALE:GREGORIAN
BEGIN:VEVENT
UID:0d9eaae8-1faf-11f0-8506-0a58a9feac02
DTSTAMP:20250422T192155Z
SUMMARY:Teacher Team Time - BMS\, RMS\, HS
URL;VALUE=URI:https://www.hudsonvillepublicschools.org/rileystreet/calendar
 /7985933/teacher-team-time-bms-rms-hs
DTSTART:20260527T182700Z
DTEND:20260527T192700Z
END:VEVENT
END:VCALENDAR
