BEGIN:VCALENDAR
VERSION:2.0
PRODID:SchoolNow
CALSCALE:GREGORIAN
BEGIN:VEVENT
UID:52829ba2-1fae-11f0-9f85-0a58a9feac02
DTSTAMP:20250422T191641Z
SUMMARY:Early Release
URL;VALUE=URI:https://www.hudsonvillepublicschools.org/rileystreet/calendar
 /7985902/early-release
DTSTART:20260508T180800Z
DTEND:20260508T190800Z
END:VEVENT
END:VCALENDAR
