BEGIN:VCALENDAR
VERSION:2.0
PRODID:SchoolNow
CALSCALE:GREGORIAN
BEGIN:VEVENT
UID:1e85ba46-1fae-11f0-bafc-0275153bd84b
DTSTAMP:20250422T191514Z
SUMMARY:Teacher Team Time - BMS\, RMS\, HS
URL;VALUE=URI:https://www.hudsonvillepublicschools.org/rileystreet/calendar
 /7985891/teacher-team-time-bms-rms-hs
DTSTART:20260422T182500Z
DTEND:20260422T192500Z
END:VEVENT
END:VCALENDAR
