BEGIN:VCALENDAR
VERSION:2.0
PRODID:SchoolNow
CALSCALE:GREGORIAN
BEGIN:VEVENT
UID:b018d5f2-1fad-11f0-9f06-0a58a9feac02
DTSTAMP:20250422T191209Z
SUMMARY:Teacher Team Time
URL;VALUE=URI:https://www.hudsonvillepublicschools.org/rileystreet/calendar
 /7985861/teacher-team-time
DTSTART:20260304T192500Z
DTEND:20260304T202500Z
END:VEVENT
END:VCALENDAR
