BEGIN:VCALENDAR
VERSION:2.0
PRODID:SchoolNow
CALSCALE:GREGORIAN
BEGIN:VEVENT
UID:822fe108-1fad-11f0-9a81-0ed256800e21
DTSTAMP:20250422T191052Z
SUMMARY:Early Release
URL;VALUE=URI:https://www.hudsonvillepublicschools.org/rileystreet/calendar
 /7985854/early-release
DTSTART:20260227T190700Z
DTEND:20260227T200700Z
END:VEVENT
END:VCALENDAR
