BEGIN:VCALENDAR
VERSION:2.0
PRODID:SchoolNow
CALSCALE:GREGORIAN
BEGIN:VEVENT
UID:6d020eb4-1fad-11f0-955e-02a2911488b3
DTSTAMP:20250422T191016Z
SUMMARY:Teacher Team Time - BMS\, RMS\, HS
URL;VALUE=URI:https://www.hudsonvillepublicschools.org/rileystreet/calendar
 /7985846/teacher-team-time-bms-rms-hs
DTSTART:20260218T192400Z
DTEND:20260218T202400Z
END:VEVENT
END:VCALENDAR
