BEGIN:VCALENDAR
VERSION:2.0
PRODID:SchoolNow
CALSCALE:GREGORIAN
BEGIN:VEVENT
UID:5c7d2a10-1fad-11f0-a2ec-0275153bd84b
DTSTAMP:20250422T190948Z
SUMMARY:Winter Break
URL;VALUE=URI:https://www.hudsonvillepublicschools.org/rileystreet/calendar
 /7985839/winter-break
DTSTART;VALUE=DATE:20260209
DTEND;VALUE=DATE:20260211
END:VEVENT
END:VCALENDAR
