BEGIN:VCALENDAR
VERSION:2.0
PRODID:SchoolNow
CALSCALE:GREGORIAN
BEGIN:VEVENT
UID:f8b3e73a-1fac-11f0-a853-0224763a4f15
DTSTAMP:20250422T190701Z
SUMMARY:Teacher Team Time - BMS\, RMS\, HS
URL;VALUE=URI:https://www.hudsonvillepublicschools.org/rileystreet/calendar
 /7985813/teacher-team-time-bms-rms-hs
DTSTART:20260107T191600Z
DTEND:20260107T201600Z
END:VEVENT
END:VCALENDAR
