BEGIN:VCALENDAR
VERSION:2.0
PRODID:SchoolNow
CALSCALE:GREGORIAN
BEGIN:VEVENT
UID:e59aa8aa-1fac-11f0-a78f-0a58a9feac02
DTSTAMP:20250422T190629Z
SUMMARY:Holiday Break
URL;VALUE=URI:https://www.hudsonvillepublicschools.org/rileystreet/calendar
 /7985806/holiday-break
DTSTART;VALUE=DATE:20251222
DTEND;VALUE=DATE:20260103
END:VEVENT
END:VCALENDAR
