BEGIN:VCALENDAR
VERSION:2.0
PRODID:SchoolNow
CALSCALE:GREGORIAN
BEGIN:VEVENT
UID:bca30172-1fac-11f0-8c48-02a2911488b3
DTSTAMP:20250422T190520Z
SUMMARY:Teacher Team Time - BMS\, RMS\, HS
URL;VALUE=URI:https://www.hudsonvillepublicschools.org/rileystreet/calendar
 /7985795/teacher-team-time-bms-rms-hs
DTSTART:20251203T191400Z
DTEND:20251203T201400Z
END:VEVENT
END:VCALENDAR
