BEGIN:VCALENDAR
VERSION:2.0
PRODID:SchoolNow
CALSCALE:GREGORIAN
BEGIN:VEVENT
UID:8d5e19ce-1fac-11f0-81e4-0afff138b5bd
DTSTAMP:20250422T190401Z
SUMMARY:Thanksgiving Break
URL;VALUE=URI:https://www.hudsonvillepublicschools.org/rileystreet/calendar
 /7985776/thanksgiving-break
DTSTART;VALUE=DATE:20251126
DTEND;VALUE=DATE:20251129
END:VEVENT
END:VCALENDAR
