BEGIN:VCALENDAR
VERSION:2.0
PRODID:SchoolNow
CALSCALE:GREGORIAN
BEGIN:VEVENT
UID:793ab290-1fac-11f0-95f7-0a58a9feac02
DTSTAMP:20250422T190327Z
SUMMARY:Teacher Team Time - BMS\, RMS\, HS
URL;VALUE=URI:https://www.hudsonvillepublicschools.org/rileystreet/calendar
 /7985768/teacher-team-time-bms-rms-hs
DTSTART:20251119T192000Z
DTEND:20251119T194500Z
END:VEVENT
END:VCALENDAR
