BEGIN:VCALENDAR
VERSION:2.0
PRODID:SchoolNow
CALSCALE:GREGORIAN
BEGIN:VEVENT
UID:68c92f0e-1fac-11f0-ac78-0ed256800e21
DTSTAMP:20250422T190300Z
SUMMARY:Teacher Team Time - BMS\, RMS\, HS
URL;VALUE=URI:https://www.hudsonvillepublicschools.org/rileystreet/calendar
 /7985765/teacher-team-time-bms-rms-hs
DTSTART:20251105T192000Z
DTEND:20251105T194500Z
END:VEVENT
END:VCALENDAR
