BEGIN:VCALENDAR
VERSION:2.0
PRODID:SchoolNow
CALSCALE:GREGORIAN
BEGIN:VEVENT
UID:5380b018-1fac-11f0-bdac-0afffa9229ed
DTSTAMP:20250422T190224Z
SUMMARY:No School
URL;VALUE=URI:https://www.hudsonvillepublicschools.org/rileystreet/calendar
 /7985758/no-school
DTSTART;VALUE=DATE:20251031
DTEND;VALUE=DATE:20251101
END:VEVENT
END:VCALENDAR
