BEGIN:VCALENDAR
VERSION:2.0
PRODID:SchoolNow
CALSCALE:GREGORIAN
BEGIN:VEVENT
UID:3de86b9c-1fac-11f0-bb04-0a58a9feac02
DTSTAMP:20250422T190148Z
SUMMARY:Teacher Team Time - BMS\, RMS\,  HS
URL;VALUE=URI:https://www.hudsonvillepublicschools.org/rileystreet/calendar
 /7985749/teacher-team-time-bms-rms-hs
DTSTART:20251022T182000Z
DTEND:20251022T184500Z
END:VEVENT
END:VCALENDAR
