BEGIN:VCALENDAR
VERSION:2.0
PRODID:SchoolNow
CALSCALE:GREGORIAN
BEGIN:VEVENT
UID:31b5a6b4-1fac-11f0-a6fb-0affe54e9969
DTSTAMP:20250422T190127Z
SUMMARY:Teacher Team Time - BMS\, RMS\, HS
URL;VALUE=URI:https://www.hudsonvillepublicschools.org/rileystreet/calendar
 /7985746/teacher-team-time-bms-rms-hs
DTSTART:20251008T182000Z
DTEND:20251008T184500Z
END:VEVENT
END:VCALENDAR
