BEGIN:VCALENDAR
VERSION:2.0
PRODID:SchoolNow
CALSCALE:GREGORIAN
BEGIN:VEVENT
UID:19f7f7b6-1fac-11f0-a42b-0ed256800e21
DTSTAMP:20250723T190912Z
SUMMARY:Early Release
URL;VALUE=URI:https://www.hudsonvillepublicschools.org/rileystreet/calendar
 /7985738/early-release
DTSTART:20250926T180200Z
DTEND:20250926T190200Z
END:VEVENT
END:VCALENDAR
