BEGIN:VCALENDAR
VERSION:2.0
PRODID:SchoolNow
CALSCALE:GREGORIAN
BEGIN:VEVENT
UID:e6cf0a46-1fab-11f0-9a40-0affc15f8047
DTSTAMP:20250422T185922Z
SUMMARY:Teacher Team Time - BMS\, RMS\, HS
URL;VALUE=URI:https://www.hudsonvillepublicschools.org/rileystreet/calendar
 /7985729/teacher-team-time-bms-rms-hs
DTSTART:20250924T182000Z
DTEND:20250924T184500Z
END:VEVENT
END:VCALENDAR
