BEGIN:VCALENDAR
VERSION:2.0
PRODID:SchoolNow
CALSCALE:GREGORIAN
BEGIN:VEVENT
UID:d74fe28e-1fab-11f0-af5d-0e616df63291
DTSTAMP:20250422T185856Z
SUMMARY:Teacher Team Time - BMS\, RMS\, HS
URL;VALUE=URI:https://www.hudsonvillepublicschools.org/rileystreet/calendar
 /7985726/teacher-team-time-bms-rms-hs
DTSTART:20250910T182000Z
DTEND:20250910T184500Z
END:VEVENT
END:VCALENDAR
