BEGIN:VCALENDAR
VERSION:2.0
PRODID:SchoolNow
CALSCALE:GREGORIAN
BEGIN:VEVENT
UID:685bf9e2-1fa8-11f0-a42c-0e8b839452af
DTSTAMP:20250422T183421Z
SUMMARY:Labor Day - No School
URL;VALUE=URI:https://www.hudsonvillepublicschools.org/rileystreet/calendar
 /7984148/labor-day-no-school
DTSTART;VALUE=DATE:20250901
DTEND;VALUE=DATE:20250902
END:VEVENT
END:VCALENDAR
