BEGIN:VCALENDAR
VERSION:2.0
PRODID:SchoolNow
CALSCALE:GREGORIAN
BEGIN:VEVENT
UID:89454f08-0e99-11ef-a9bb-0e35eb29a1ff
DTSTAMP:20240722T130635Z
SUMMARY:Riley Middle School Track - Lowell Invitational
LOCATION:Lowell HS\, 1101 Eucalyptus Dr\, San Francisco\, CA 94132
URL;VALUE=URI:https://www.hudsonvillepublicschools.org/rileystreet/athletic
 s/calendar/5946292/riley-middle-school-track-lowell-invitational
DTSTART:20240529T220000Z
DTEND:20240529T230000Z
END:VEVENT
END:VCALENDAR
