BEGIN:VCALENDAR
VERSION:2.0
PRODID:SchoolNow
CALSCALE:GREGORIAN
BEGIN:VEVENT
UID:be39ee24-0e96-11ef-8ad8-0a58a9feac02
DTSTAMP:20240510T063007Z
SUMMARY:Girls 8th Grade Soccer @ Cityside Middle School
LOCATION:Zeeland Public Schools Transportation\, 720 E Main Ave\, Zeeland\,
  MI 49464
URL;VALUE=URI:https://www.hudsonvillepublicschools.org/rileystreet/athletic
 s/calendar/5946288/girls-8th-grade-soccer-cityside-middle-school
DTSTART:20240515T213000Z
DTEND:20240515T223000Z
END:VEVENT
END:VCALENDAR
