BEGIN:VCALENDAR
VERSION:2.0
PRODID:SchoolNow
CALSCALE:GREGORIAN
BEGIN:VEVENT
UID:be39dee8-0e96-11ef-aebc-0a58a9feac02
DTSTAMP:20240510T063007Z
SUMMARY:Girls 8th Grade Soccer vs. NorthPointe Christian Middle School
LOCATION:Riley Street Middle School\, 5155 32nd Ave\, Hudsonville\, MI 4942
 6
URL;VALUE=URI:https://www.hudsonvillepublicschools.org/rileystreet/athletic
 s/calendar/5946287/girls-8th-grade-soccer-vs-northpointe-christian-middle-
 school
DTSTART:20240513T200000Z
DTEND:20240513T210000Z
END:VEVENT
END:VCALENDAR
