BEGIN:VCALENDAR
VERSION:2.0
PRODID:SchoolNow
CALSCALE:GREGORIAN
BEGIN:VEVENT
UID:3cbf6c20-f041-11ee-a178-0e5b423db2b3
DTSTAMP:20240722T130635Z
SUMMARY:Riley Middle School Track - State Finals
LOCATION:Grand Rapids Christian HS\, 2300 Plymouth Ave SE\, Grand Rapids\, 
 MI 49506
URL;VALUE=URI:https://www.hudsonvillepublicschools.org/rileystreet/athletic
 s/calendar/5682811/riley-middle-school-track-state-finals
DTSTART:20240523T181500Z
DTEND:20240523T191500Z
END:VEVENT
END:VCALENDAR
