BEGIN:VCALENDAR
VERSION:2.0
PRODID:SchoolNow
CALSCALE:GREGORIAN
BEGIN:VEVENT
UID:3cbf5fc8-f041-11ee-8c3f-0e5b423db2b3
DTSTAMP:20240722T130635Z
SUMMARY:Riley Middle School Track - Zeeland Invite
LOCATION:Zeeland Football Stadium\, 9900 Riley St\, Zeeland\, MI 49464
URL;VALUE=URI:https://www.hudsonvillepublicschools.org/rileystreet/athletic
 s/calendar/5682810/riley-middle-school-track-zeeland-invite
DTSTART:20240522T201500Z
DTEND:20240522T211500Z
END:VEVENT
END:VCALENDAR
