BEGIN:VCALENDAR
VERSION:2.0
PRODID:SchoolNow
CALSCALE:GREGORIAN
BEGIN:VEVENT
UID:3cbf535c-f041-11ee-99c4-0e5b423db2b3
DTSTAMP:20240722T130635Z
SUMMARY:Riley Middle School Track - CONFERENCE MEET
LOCATION:Allendale HS\, 10760 68th Ave\, Allendale\, MI 49401
URL;VALUE=URI:https://www.hudsonvillepublicschools.org/rileystreet/athletic
 s/calendar/5682809/riley-middle-school-track-conference-meet
DTSTART:20240515T201500Z
DTEND:20240515T211500Z
END:VEVENT
END:VCALENDAR
