BEGIN:VCALENDAR
VERSION:2.0
PRODID:SchoolNow
CALSCALE:GREGORIAN
BEGIN:VEVENT
UID:3cbf3034-f041-11ee-acaf-0e5b423db2b3
DTSTAMP:20240722T130635Z
SUMMARY:Riley Middle School Track - Coopersville MS
LOCATION:Coopersville HS\, 198 East St\, Coopersville\, MI 49404
URL;VALUE=URI:https://www.hudsonvillepublicschools.org/rileystreet/athletic
 s/calendar/5682806/riley-middle-school-track-coopersville-ms
DTSTART:20240506T201500Z
DTEND:20240506T211500Z
END:VEVENT
END:VCALENDAR
