BEGIN:VCALENDAR
VERSION:2.0
PRODID:SchoolNow
CALSCALE:GREGORIAN
BEGIN:VEVENT
UID:3cbf14c8-f041-11ee-bdfb-0e5b423db2b3
DTSTAMP:20240722T130635Z
SUMMARY:Riley Middle School Track - West Ottawa Invitational
LOCATION:West Ottawa High School\,
URL;VALUE=URI:https://www.hudsonvillepublicschools.org/rileystreet/athletic
 s/calendar/5682804/riley-middle-school-track-west-ottawa-invitational
DTSTART:20240427T130000Z
DTEND:20240427T140000Z
END:VEVENT
END:VCALENDAR
