BEGIN:VCALENDAR
VERSION:2.0
PRODID:SchoolNow
CALSCALE:GREGORIAN
BEGIN:VEVENT
UID:3cbf085c-f041-11ee-8ea0-0e5b423db2b3
DTSTAMP:20240722T130635Z
SUMMARY:Riley Middle School Track - Baldwin Street Middle School
LOCATION:Baldwin Street Middle School\, 5155 32nd Ave\, Hudsonville\, MI 49
 426
URL;VALUE=URI:https://www.hudsonvillepublicschools.org/rileystreet/athletic
 s/calendar/5682803/riley-middle-school-track-baldwin-street-middle-school
DTSTART:20240422T201500Z
DTEND:20240422T211500Z
END:VEVENT
END:VCALENDAR
