BEGIN:VCALENDAR
VERSION:2.0
PRODID:SchoolNow
CALSCALE:GREGORIAN
BEGIN:VEVENT
UID:3cbef9b6-f041-11ee-992a-0e5b423db2b3
DTSTAMP:20240722T130635Z
SUMMARY:Riley Middle School Track - Jenison Junior High School
LOCATION:Jenison High School\,
URL;VALUE=URI:https://www.hudsonvillepublicschools.org/rileystreet/athletic
 s/calendar/5682802/riley-middle-school-track-jenison-junior-high-school
DTSTART:20240415T201500Z
DTEND:20240415T211500Z
END:VEVENT
END:VCALENDAR
