BEGIN:VCALENDAR
VERSION:2.0
PRODID:SchoolNow
CALSCALE:GREGORIAN
BEGIN:VEVENT
UID:20de5a48-f041-11ee-84be-027a2b64e23b
DTSTAMP:20240401T160141Z
SUMMARY:Boys Riley Middle School Tennis - Grandville Middle School
LOCATION:Oakestown Intermediate School\, 3535 Wilson Ave SW\, Grandville\, 
 MI 49418
URL;VALUE=URI:https://www.hudsonvillepublicschools.org/rileystreet/athletic
 s/calendar/5682801/boys-riley-middle-school-tennis-grandville-middle-schoo
 l
DTSTART:20240516T200000Z
DTEND:20240516T210000Z
END:VEVENT
END:VCALENDAR
