BEGIN:VCALENDAR
VERSION:2.0
PRODID:SchoolNow
CALSCALE:GREGORIAN
BEGIN:VEVENT
UID:20de4ada-f041-11ee-a4b8-027a2b64e23b
DTSTAMP:20240401T160141Z
SUMMARY:Boys Riley Middle School Tennis - West Ottawa Black
LOCATION:Riley Street Middle School\, 2745 Riley St\, Hudsonville\, MI 4942
 6
URL;VALUE=URI:https://www.hudsonvillepublicschools.org/rileystreet/athletic
 s/calendar/5682800/boys-riley-middle-school-tennis-west-ottawa-black
DTSTART:20240514T200000Z
DTEND:20240514T210000Z
END:VEVENT
END:VCALENDAR
