BEGIN:VCALENDAR
VERSION:2.0
PRODID:SchoolNow
CALSCALE:GREGORIAN
BEGIN:VEVENT
UID:20de1f2e-f041-11ee-9ca9-027a2b64e23b
DTSTAMP:20240401T160141Z
SUMMARY:Boys Riley Middle School Tennis - Holland Middle School
LOCATION:Holland HS\, 600 Van Raalte Ave\, Holland\, MI 49423
URL;VALUE=URI:https://www.hudsonvillepublicschools.org/rileystreet/athletic
 s/calendar/5682798/boys-riley-middle-school-tennis-holland-middle-school
DTSTART:20240507T200000Z
DTEND:20240507T210000Z
END:VEVENT
END:VCALENDAR
