BEGIN:VCALENDAR
VERSION:2.0
PRODID:SchoolNow
CALSCALE:GREGORIAN
BEGIN:VEVENT
UID:20de03f4-f041-11ee-8a6e-027a2b64e23b
DTSTAMP:20240401T160141Z
SUMMARY:Boys Riley Middle School Tennis - West Ottawa Black
LOCATION:Riley Street Middle School\, 2745 Riley St\, Hudsonville\, MI 4942
 6
URL;VALUE=URI:https://www.hudsonvillepublicschools.org/rileystreet/athletic
 s/calendar/5682797/boys-riley-middle-school-tennis-west-ottawa-black
DTSTART:20240502T200000Z
DTEND:20240502T210000Z
END:VEVENT
END:VCALENDAR
