BEGIN:VCALENDAR
VERSION:2.0
PRODID:SchoolNow
CALSCALE:GREGORIAN
BEGIN:VEVENT
UID:20ddf724-f041-11ee-9aac-027a2b64e23b
DTSTAMP:20240401T160141Z
SUMMARY:Boys Riley Middle School Tennis - White Pines Middle School
LOCATION:White Pines Middle School\, 1400 S Griffin\, Grand Haven\, MI 4941
 7
URL;VALUE=URI:https://www.hudsonvillepublicschools.org/rileystreet/athletic
 s/calendar/5682796/boys-riley-middle-school-tennis-white-pines-middle-scho
 ol
DTSTART:20240430T200000Z
DTEND:20240430T210000Z
END:VEVENT
END:VCALENDAR
