BEGIN:VCALENDAR
VERSION:2.0
PRODID:SchoolNow
CALSCALE:GREGORIAN
BEGIN:VEVENT
UID:20dde784-f041-11ee-b5dd-027a2b64e23b
DTSTAMP:20240401T160141Z
SUMMARY:Boys Riley Middle School Tennis - Baldwin Street Middle School
LOCATION:Riley Street Middle School\, 2745 Riley St\, Hudsonville\, MI 4942
 6
URL;VALUE=URI:https://www.hudsonvillepublicschools.org/rileystreet/athletic
 s/calendar/5682795/boys-riley-middle-school-tennis-baldwin-street-middle-s
 chool
DTSTART:20240425T200000Z
DTEND:20240425T210000Z
END:VEVENT
END:VCALENDAR
