BEGIN:VCALENDAR
VERSION:2.0
PRODID:SchoolNow
CALSCALE:GREGORIAN
BEGIN:VEVENT
UID:20ddd8fc-f041-11ee-ae18-027a2b64e23b
DTSTAMP:20240401T160141Z
SUMMARY:Boys Riley Middle School Tennis - Grandville Middle School
LOCATION:Oakestown Intermediate School\, 3535 Wilson Ave SW\, Grandville\, 
 MI 49418
URL;VALUE=URI:https://www.hudsonvillepublicschools.org/rileystreet/athletic
 s/calendar/5682794/boys-riley-middle-school-tennis-grandville-middle-schoo
 l
DTSTART:20240423T200000Z
DTEND:20240423T210000Z
END:VEVENT
END:VCALENDAR
