BEGIN:VCALENDAR
VERSION:2.0
PRODID:SchoolNow
CALSCALE:GREGORIAN
BEGIN:VEVENT
UID:20ddcb6e-f041-11ee-9d90-027a2b64e23b
DTSTAMP:20240401T160141Z
SUMMARY:Boys Riley Middle School Tennis - Creekside Middle School
LOCATION:Riley Street Middle School\, 2745 Riley St\, Hudsonville\, MI 4942
 6
URL;VALUE=URI:https://www.hudsonvillepublicschools.org/rileystreet/athletic
 s/calendar/5682793/boys-riley-middle-school-tennis-creekside-middle-school
DTSTART:20240418T200000Z
DTEND:20240418T210000Z
END:VEVENT
END:VCALENDAR
