BEGIN:VCALENDAR
VERSION:2.0
PRODID:SchoolNow
CALSCALE:GREGORIAN
BEGIN:VEVENT
UID:20ddb764-f041-11ee-845d-027a2b64e23b
DTSTAMP:20240401T160141Z
SUMMARY:Boys Riley Middle School Tennis - Harbor Lights Middle School
LOCATION:Harbor Lights Middle School\, 1024-136 Th Ave\, Holland\, MI 49424
URL;VALUE=URI:https://www.hudsonvillepublicschools.org/rileystreet/athletic
 s/calendar/5682792/boys-riley-middle-school-tennis-harbor-lights-middle-sc
 hool
DTSTART:20240416T200000Z
DTEND:20240416T210000Z
END:VEVENT
END:VCALENDAR
