BEGIN:VCALENDAR
VERSION:2.0
PRODID:SchoolNow
CALSCALE:GREGORIAN
BEGIN:VEVENT
UID:20dda85a-f041-11ee-8365-027a2b64e23b
DTSTAMP:20240401T160141Z
SUMMARY:Boys Riley Middle School Tennis - Jenison Junior High School
LOCATION:Riley Street Middle School\, 2745 Riley St\, Hudsonville\, MI 4942
 6
URL;VALUE=URI:https://www.hudsonvillepublicschools.org/rileystreet/athletic
 s/calendar/5682791/boys-riley-middle-school-tennis-jenison-junior-high-sch
 ool
DTSTART:20240411T200000Z
DTEND:20240411T210000Z
END:VEVENT
END:VCALENDAR
