BEGIN:VCALENDAR
VERSION:2.0
PRODID:SchoolNow
CALSCALE:GREGORIAN
BEGIN:VEVENT
UID:20dd9874-f041-11ee-83a9-027a2b64e23b
DTSTAMP:20240401T160140Z
SUMMARY:Boys Riley Middle School Tennis - Jenison Junior High School
LOCATION:Jenison High School\, 2140 Bauer Rd\, Jenison\, MI 49428
URL;VALUE=URI:https://www.hudsonvillepublicschools.org/rileystreet/athletic
 s/calendar/5682790/boys-riley-middle-school-tennis-jenison-junior-high-sch
 ool
DTSTART:20240410T200000Z
DTEND:20240410T210000Z
END:VEVENT
END:VCALENDAR
