BEGIN:VCALENDAR
VERSION:2.0
PRODID:SchoolNow
CALSCALE:GREGORIAN
BEGIN:VEVENT
UID:09e9a982-f041-11ee-83cc-0a58a9feac02
DTSTAMP:20240510T065006Z
SUMMARY:Girls 7th Grade Soccer @ Wyoming Junior High School
LOCATION:Lamar Park\, 2561 Porter St SW\, Wyoming\, MI 49519
URL;VALUE=URI:https://www.hudsonvillepublicschools.org/rileystreet/athletic
 s/calendar/5682788/girls-7th-grade-soccer-wyoming-junior-high-school
DTSTART:20240514T200000Z
DTEND:20240514T210000Z
END:VEVENT
END:VCALENDAR
