BEGIN:VCALENDAR
VERSION:2.0
PRODID:SchoolNow
CALSCALE:GREGORIAN
BEGIN:VEVENT
UID:09e98eb6-f041-11ee-9f90-0a58a9feac02
DTSTAMP:20240510T065006Z
SUMMARY:Girls 7th Grade Soccer vs. Muskegon Middle school
LOCATION:Riley Street Middle School\, 5155 32nd Ave\, Hudsonville\, MI 4942
 6
URL;VALUE=URI:https://www.hudsonvillepublicschools.org/rileystreet/athletic
 s/calendar/5682787/girls-7th-grade-soccer-vs-muskegon-middle-school
DTSTART:20240509T200000Z
DTEND:20240509T210000Z
END:VEVENT
END:VCALENDAR
