BEGIN:VCALENDAR
VERSION:2.0
PRODID:SchoolNow
CALSCALE:GREGORIAN
BEGIN:VEVENT
UID:09e96a26-f041-11ee-8b03-0a58a9feac02
DTSTAMP:20240510T065006Z
SUMMARY:Girls 7th Grade Soccer vs. Holland Middle School
LOCATION:Riley Street Middle School\, 5155 32nd Ave\, Hudsonville\, MI 4942
 6
URL;VALUE=URI:https://www.hudsonvillepublicschools.org/rileystreet/athletic
 s/calendar/5682785/girls-7th-grade-soccer-vs-holland-middle-school
DTSTART:20240502T200000Z
DTEND:20240502T210000Z
END:VEVENT
END:VCALENDAR
