BEGIN:VCALENDAR
VERSION:2.0
PRODID:SchoolNow
CALSCALE:GREGORIAN
BEGIN:VEVENT
UID:09e957c0-f041-11ee-8616-0a58a9feac02
DTSTAMP:20240510T065006Z
SUMMARY:Girls 7th Grade Soccer @ East Kentwood MS
LOCATION:Crestwood Middle School\, 2674 44th St SE\, Kentwood\, MI 49512
URL;VALUE=URI:https://www.hudsonvillepublicschools.org/rileystreet/athletic
 s/calendar/5682784/girls-7th-grade-soccer-east-kentwood-ms
DTSTART:20240430T200000Z
DTEND:20240430T210000Z
END:VEVENT
END:VCALENDAR
