BEGIN:VCALENDAR
VERSION:2.0
PRODID:SchoolNow
CALSCALE:GREGORIAN
BEGIN:VEVENT
UID:09e945be-f041-11ee-8d8c-0a58a9feac02
DTSTAMP:20240510T065006Z
SUMMARY:Girls 7th Grade Soccer @ Hamilton Middle School
LOCATION:Hamilton HS\, 4911 136th Ave\, Hamilton\, MI 49419
URL;VALUE=URI:https://www.hudsonvillepublicschools.org/rileystreet/athletic
 s/calendar/5682783/girls-7th-grade-soccer-hamilton-middle-school
DTSTART:20240425T200000Z
DTEND:20240425T210000Z
END:VEVENT
END:VCALENDAR
