BEGIN:VCALENDAR
VERSION:2.0
PRODID:SchoolNow
CALSCALE:GREGORIAN
BEGIN:VEVENT
UID:09e936be-f041-11ee-b600-0a58a9feac02
DTSTAMP:20240510T065006Z
SUMMARY:Girls 7th Grade Soccer @ Creekside Middle School
LOCATION:Creekside Middle School\, 179 W Roosevelt Ave\, Zeeland\, MI 49464
URL;VALUE=URI:https://www.hudsonvillepublicschools.org/rileystreet/athletic
 s/calendar/5682782/girls-7th-grade-soccer-creekside-middle-school
DTSTART:20240423T200000Z
DTEND:20240423T210000Z
END:VEVENT
END:VCALENDAR
