BEGIN:VCALENDAR
VERSION:2.0
PRODID:SchoolNow
CALSCALE:GREGORIAN
BEGIN:VEVENT
UID:09e92584-f041-11ee-88a2-0a58a9feac02
DTSTAMP:20240510T065006Z
SUMMARY:Girls 7th Grade Soccer vs. Grandville Middle School
LOCATION:Riley Street Middle School\, 5155 32nd Ave\, Hudsonville\, MI 4942
 6
URL;VALUE=URI:https://www.hudsonvillepublicschools.org/rileystreet/athletic
 s/calendar/5682781/girls-7th-grade-soccer-vs-grandville-middle-school
DTSTART:20240418T200000Z
DTEND:20240418T210000Z
END:VEVENT
END:VCALENDAR
