BEGIN:VCALENDAR
VERSION:2.0
PRODID:SchoolNow
CALSCALE:GREGORIAN
BEGIN:VEVENT
UID:f9a70aba-f040-11ee-a768-0affd3c940bd
DTSTAMP:20240510T063007Z
SUMMARY:Girls 8th Grade Soccer @ Wyoming Junior High School
LOCATION:Lamar Park\, 2561 Porter St SW\, Wyoming\, MI 49519
URL;VALUE=URI:https://www.hudsonvillepublicschools.org/rileystreet/athletic
 s/calendar/5682778/girls-8th-grade-soccer-wyoming-junior-high-school
DTSTART:20240514T213000Z
DTEND:20240514T223000Z
END:VEVENT
END:VCALENDAR
