BEGIN:VCALENDAR
VERSION:2.0
PRODID:SchoolNow
CALSCALE:GREGORIAN
BEGIN:VEVENT
UID:f9a6fd86-f040-11ee-9cbd-0affd3c940bd
DTSTAMP:20240510T063007Z
SUMMARY:Girls 8th Grade Soccer vs. Muskegon Middle school
LOCATION:Riley Street Middle School\, 5155 32nd Ave\, Hudsonville\, MI 4942
 6
URL;VALUE=URI:https://www.hudsonvillepublicschools.org/rileystreet/athletic
 s/calendar/5682777/girls-8th-grade-soccer-vs-muskegon-middle-school
DTSTART:20240509T213000Z
DTEND:20240509T223000Z
END:VEVENT
END:VCALENDAR
